Workbook

Sheet informations-collectivite
A3: Informations à remplir par le service de la taxe de séjour | C3: Nom de la collectivité | E3: Communauté d'agglomération Gap Tallard Durance
C5: URL de la page d'accueil de la plateforme
C7: Adresse pied de page
C11: Pourcentage voté par la collectivité | E11: 5 | F11: %
A13: Année de collecte | C13: Tarif plafond hors taxe additionnelle | E13: 4.8 | F13: €
A15: 2026 | C15: Taxe additionnelle départementale 04 & 05 | E15: 10 | F15: %

Sheet Donnees
A37: Menu déroulant
A38: Janvier
A39: Février
A40: Mars
A41: Avril
A42: Mai
A43: Juin
A44: Juillet
A45: Août
A46: Septembre
A47: Octobre
A48: Novembre
A49: Décembre

Sheet registre du logeur
E1: REGISTRE DES SÉJOURS
E2: =CONCATENATE('informations-collectivite'!E3) -> Communauté d'agglomération Gap Tallard Durance
E3: DECLARATION MENSUELLE DE TAXE DE SEJOUR | M3: Pour les hébergements à | P3: TARIF DE LA TAXE PROPORTIONNEL
E4: Mois : | F4: Menu déroulant | J4: Année : | K4: ='informations-collectivite'!A15 -> 2026
E5: Ce registre concerne les hébergements sans classement ou en attente de classement (hôtels, meublés, résidences de tourisme, villages de vacances,) sauf hébergements de plein air et auberges collectives.
C8: Etablissement : | K8: Nom du propriétaire :
C9: Adresse de l'établissement :
C10: Adresse du propriétaire :
D11: Capacité totale d'accueil : | K11: Nb de chambres :
D12: Numéro d'enregistrement :
C14: Le tarif de la taxe de séjour des hébergements sans classement ou en attente de classement (hôtels, meublés, résidences de tourisme, villages de vacances) saufles chambres d’hôtes, les aires de camping-cars, les terrains de camping et de caravanage et les ports de plaisance est de : | K14: ='informations-collectivite'!E11 -> 5 | L14: % | N14: Taxe(s) additionnelle(s) | P14: ='informations-collectivite'!E15 -> 10 | Q14: %
C15: Le tarif plafond de la taxe de séjour hors taxe additionnelle est de : | K15: ='informations-collectivite'!E13 -> 4.8 | L15: €
H17: Occupants
H18: Assujettis non exonérés
I19: Exonérés
C20: Date d'arrivée | D20: date de départ | E20: Nombre de nuits du séjour | F20: Montant total de la durée du séjour (HT) | G20: Prix de la nuit | H20: Nombre de personnes ssujettis* non exonérés | I20: Nombre de personnes mineures | J20: Nombre de titulaires d’un contrat de travail saisonnier employés dans la commune | K20: Nombre de personnes bénéficiant d’un hébergement d’urgence | L20: Nombre de personnes occupant des locaux dont le loyer est inférieur à un tarif voté par la collectivité** | M20: Nombre de personnes non assujetties* | N20: Nombre de nuitées assujetties non éxonérées | O20: Tarif de la taxe par personne + taxe(s) aditionnelle(s) | P20: Montant de la taxe de séjour percçue | U20: calcul taxe | V20: calcul taxe arrondi | W20: Pourcentage | X20: Calcul taxe arrodi + taxe additionnelle | Y20: (Calcul taxe arrodi + taxe additionnelle) arrodi
G21: =F21/E21 -> #DIV/0! | N21: =IF((E21*H21)<>0, (E21*H21), "-") -> - | O21: =Y21 -> - | P21: =IF( AND(ISNUMBER(O21),ISNUMBER(N21)), (O21*N21), "-") -> - | U21: =IF((H21+I21+J21+K21+L21+M21)<>0, MIN(K15, (G21/(H21+I21+J21+K21+L21+M21))*K14/100 ), "-") -> - | V21: =IF(ISNUMBER(U21), ROUND(U21,2),"-") -> - | W21: =P14 -> 10 | X21: =IF(ISNUMBER(V21),V21+V21*W21/100,"-") -> - | Y21: =IF(ISNUMBER(X21), ROUND(X21,2), "-") -> -
G22: =F22/E22 -> #DIV/0! | N22: =IF((E22*H22)<>0, (E22*H22), "-") -> - | O22: =Y22 -> - | P22: =IF( AND(ISNUMBER(O22),ISNUMBER(N22)), (O22*N22), "-") -> - | U22: =IF((H22+I22+J22+K22+L22+M22)<>0, MIN(K15, (G22/(H22+I22+J22+K22+L22+M22))*K14/100 ), "-") -> - | V22: =IF(ISNUMBER(U22), ROUND(U22,2),"-") -> - | W22: =P14 -> 10 | X22: =IF(ISNUMBER(V22),V22+V22*W22/100,"-") -> - | Y22: =IF(ISNUMBER(X22), ROUND(X22,2), "-") -> -
G23: =F23/E23 -> #DIV/0! | N23: =IF((E23*H23)<>0, (E23*H23), "-") -> - | O23: =Y23 -> - | P23: =IF( AND(ISNUMBER(O23),ISNUMBER(N23)), (O23*N23), "-") -> - | U23: =IF((H23+I23+J23+K23+L23+M23)<>0, MIN(K15, (G23/(H23+I23+J23+K23+L23+M23))*K14/100 ), "-") -> - | V23: =IF(ISNUMBER(U23), ROUND(U23,2),"-") -> - | W23: =P14 -> 10 | X23: =IF(ISNUMBER(V23),V23+V23*W23/100,"-") -> - | Y23: =IF(ISNUMBER(X23), ROUND(X23,2), "-") -> -
G24: =F24/E24 -> #DIV/0! | N24: =IF((E24*H24)<>0, (E24*H24), "-") -> - | O24: =Y24 -> - | P24: =IF( AND(ISNUMBER(O24),ISNUMBER(N24)), (O24*N24), "-") -> - | U24: =IF((H24+I24+J24+K24+L24+M24)<>0, MIN(K15, (G24/(H24+I24+J24+K24+L24+M24))*K14/100 ), "-") -> - | V24: =IF(ISNUMBER(U24), ROUND(U24,2),"-") -> - | W24: =P14 -> 10 | X24: =IF(ISNUMBER(V24),V24+V24*W24/100,"-") -> - | Y24: =IF(ISNUMBER(X24), ROUND(X24,2), "-") -> -
G25: =F25/E25 -> #DIV/0! | N25: =IF((E25*H25)<>0, (E25*H25), "-") -> - | O25: =Y25 -> - | P25: =IF( AND(ISNUMBER(O25),ISNUMBER(N25)), (O25*N25), "-") -> - | U25: =IF((H25+I25+J25+K25+L25+M25)<>0, MIN(K15, (G25/(H25+I25+J25+K25+L25+M25))*K14/100 ), "-") -> - | V25: =IF(ISNUMBER(U25), ROUND(U25,2),"-") -> - | W25: =P14 -> 10 | X25: =IF(ISNUMBER(V25),V25+V25*W25/100,"-") -> - | Y25: =IF(ISNUMBER(X25), ROUND(X25,2), "-") -> -
G26: =F26/E26 -> #DIV/0! | N26: =IF((E26*H26)<>0, (E26*H26), "-") -> - | O26: =Y26 -> - | P26: =IF( AND(ISNUMBER(O26),ISNUMBER(N26)), (O26*N26), "-") -> - | U26: =IF((H26+I26+J26+K26+L26+M26)<>0, MIN(K15, (G26/(H26+I26+J26+K26+L26+M26))*K14/100 ), "-") -> - | V26: =IF(ISNUMBER(U26), ROUND(U26,2),"-") -> - | W26: =P14 -> 10 | X26: =IF(ISNUMBER(V26),V26+V26*W26/100,"-") -> - | Y26: =IF(ISNUMBER(X26), ROUND(X26,2), "-") -> -
G27: =F27/E27 -> #DIV/0! | N27: =IF((E27*H27)<>0, (E27*H27), "-") -> - | O27: =Y27 -> - | P27: =IF( AND(ISNUMBER(O27),ISNUMBER(N27)), (O27*N27), "-") -> - | U27: =IF((H27+I27+J27+K27+L27+M27)<>0, MIN(K15, (G27/(H27+I27+J27+K27+L27+M27))*K14/100 ), "-") -> - | V27: =IF(ISNUMBER(U27), ROUND(U27,2),"-") -> - | W27: =P14 -> 10 | X27: =IF(ISNUMBER(V27),V27+V27*W27/100,"-") -> - | Y27: =IF(ISNUMBER(X27), ROUND(X27,2), "-") -> -
G28: =F28/E28 -> #DIV/0! | N28: =IF((E28*H28)<>0, (E28*H28), "-") -> - | O28: =Y28 -> - | P28: =IF( AND(ISNUMBER(O28),ISNUMBER(N28)), (O28*N28), "-") -> - | U28: =IF((H28+I28+J28+K28+L28+M28)<>0, MIN(K15, (G28/(H28+I28+J28+K28+L28+M28))*K14/100 ), "-") -> - | V28: =IF(ISNUMBER(U28), ROUND(U28,2),"-") -> - | W28: =P14 -> 10 | X28: =IF(ISNUMBER(V28),V28+V28*W28/100,"-") -> - | Y28: =IF(ISNUMBER(X28), ROUND(X28,2), "-") -> -
G29: =F29/E29 -> #DIV/0! | N29: =IF((E29*H29)<>0, (E29*H29), "-") -> - | O29: =Y29 -> - | P29: =IF( AND(ISNUMBER(O29),ISNUMBER(N29)), (O29*N29), "-") -> - | U29: =IF((H29+I29+J29+K29+L29+M29)<>0, MIN(K15, (G29/(H29+I29+J29+K29+L29+M29))*K14/100 ), "-") -> - | V29: =IF(ISNUMBER(U29), ROUND(U29,2),"-") -> - | W29: =P14 -> 10 | X29: =IF(ISNUMBER(V29),V29+V29*W29/100,"-") -> - | Y29: =IF(ISNUMBER(X29), ROUND(X29,2), "-") -> -
G30: =F30/E30 -> #DIV/0! | N30: =IF((E30*H30)<>0, (E30*H30), "-") -> - | O30: =Y30 -> - | P30: =IF( AND(ISNUMBER(O30),ISNUMBER(N30)), (O30*N30), "-") -> - | U30: =IF((H30+I30+J30+K30+L30+M30)<>0, MIN(K15, (G30/(H30+I30+J30+K30+L30+M30))*K14/100 ), "-") -> - | V30: =IF(ISNUMBER(U30), ROUND(U30,2),"-") -> - | W30: =P14 -> 10 | X30: =IF(ISNUMBER(V30),V30+V30*W30/100,"-") -> - | Y30: =IF(ISNUMBER(X30), ROUND(X30,2), "-") -> -
G31: =F31/E31 -> #DIV/0! | N31: =IF((E31*H31)<>0, (E31*H31), "-") -> - | O31: =Y31 -> - | P31: =IF( AND(ISNUMBER(O31),ISNUMBER(N31)), (O31*N31), "-") -> - | U31: =IF((H31+I31+J31+K31+L31+M31)<>0, MIN(K15, (G31/(H31+I31+J31+K31+L31+M31))*K14/100 ), "-") -> - | V31: =IF(ISNUMBER(U31), ROUND(U31,2),"-") -> - | W31: =P14 -> 10 | X31: =IF(ISNUMBER(V31),V31+V31*W31/100,"-") -> - | Y31: =IF(ISNUMBER(X31), ROUND(X31,2), "-") -> -
G32: =F32/E32 -> #DIV/0! | N32: =IF((E32*H32)<>0, (E32*H32), "-") -> - | O32: =Y32 -> - | P32: =IF( AND(ISNUMBER(O32),ISNUMBER(N32)), (O32*N32), "-") -> - | U32: =IF((H32+I32+J32+K32+L32+M32)<>0, MIN(K15, (G32/(H32+I32+J32+K32+L32+M32))*K14/100 ), "-") -> - | V32: =IF(ISNUMBER(U32), ROUND(U32,2),"-") -> - | W32: =P14 -> 10 | X32: =IF(ISNUMBER(V32),V32+V32*W32/100,"-") -> - | Y32: =IF(ISNUMBER(X32), ROUND(X32,2), "-") -> -
G33: =F33/E33 -> #DIV/0! | N33: =IF((E33*H33)<>0, (E33*H33), "-") -> - | O33: =Y33 -> - | P33: =IF( AND(ISNUMBER(O33),ISNUMBER(N33)), (O33*N33), "-") -> - | U33: =IF((H33+I33+J33+K33+L33+M33)<>0, MIN(K15, (G33/(H33+I33+J33+K33+L33+M33))*K14/100 ), "-") -> - | V33: =IF(ISNUMBER(U33), ROUND(U33,2),"-") -> - | W33: =P14 -> 10 | X33: =IF(ISNUMBER(V33),V33+V33*W33/100,"-") -> - | Y33: =IF(ISNUMBER(X33), ROUND(X33,2), "-") -> -
G34: =F34/E34 -> #DIV/0! | N34: =IF((E34*H34)<>0, (E34*H34), "-") -> - | O34: =Y34 -> - | P34: =IF( AND(ISNUMBER(O34),ISNUMBER(N34)), (O34*N34), "-") -> - | U34: =IF((H34+I34+J34+K34+L34+M34)<>0, MIN(K15, (G34/(H34+I34+J34+K34+L34+M34))*K14/100 ), "-") -> - | V34: =IF(ISNUMBER(U34), ROUND(U34,2),"-") -> - | W34: =P14 -> 10 | X34: =IF(ISNUMBER(V34),V34+V34*W34/100,"-") -> - | Y34: =IF(ISNUMBER(X34), ROUND(X34,2), "-") -> -
G35: =F35/E35 -> #DIV/0! | N35: =IF((E35*H35)<>0, (E35*H35), "-") -> - | O35: =Y35 -> - | P35: =IF( AND(ISNUMBER(O35),ISNUMBER(N35)), (O35*N35), "-") -> - | U35: =IF((H35+I35+J35+K35+L35+M35)<>0, MIN(K15, (G35/(H35+I35+J35+K35+L35+M35))*K14/100 ), "-") -> - | V35: =IF(ISNUMBER(U35), ROUND(U35,2),"-") -> - | W35: =P14 -> 10 | X35: =IF(ISNUMBER(V35),V35+V35*W35/100,"-") -> - | Y35: =IF(ISNUMBER(X35), ROUND(X35,2), "-") -> -
G36: =F36/E36 -> #DIV/0! | N36: =IF((E36*H36)<>0, (E36*H36), "-") -> - | O36: =Y36 -> - | P36: =IF( AND(ISNUMBER(O36),ISNUMBER(N36)), (O36*N36), "-") -> - | U36: =IF((H36+I36+J36+K36+L36+M36)<>0, MIN(K15, (G36/(H36+I36+J36+K36+L36+M36))*K14/100 ), "-") -> - | V36: =IF(ISNUMBER(U36), ROUND(U36,2),"-") -> - | W36: =P14 -> 10 | X36: =IF(ISNUMBER(V36),V36+V36*W36/100,"-") -> - | Y36: =IF(ISNUMBER(X36), ROUND(X36,2), "-") -> -
G37: =F37/E37 -> #DIV/0! | N37: =IF((E37*H37)<>0, (E37*H37), "-") -> - | O37: =Y37 -> - | P37: =IF( AND(ISNUMBER(O37),ISNUMBER(N37)), (O37*N37), "-") -> - | U37: =IF((H37+I37+J37+K37+L37+M37)<>0, MIN(K15, (G37/(H37+I37+J37+K37+L37+M37))*K14/100 ), "-") -> - | V37: =IF(ISNUMBER(U37), ROUND(U37,2),"-") -> - | W37: 10 | X37: =IF(ISNUMBER(V37),V37+V37*W37/100,"-") -> - | Y37: =IF(ISNUMBER(X37), ROUND(X37,2), "-") -> -
G38: =F38/E38 -> #DIV/0! | N38: =IF((E38*H38)<>0, (E38*H38), "-") -> - | O38: =Y38 -> - | P38: =IF( AND(ISNUMBER(O38),ISNUMBER(N38)), (O38*N38), "-") -> - | U38: =IF((H38+I38+J38+K38+L38+M38)<>0, MIN(K15, (G38/(H38+I38+J38+K38+L38+M38))*K14/100 ), "-") -> - | V38: =IF(ISNUMBER(U38), ROUND(U38,2),"-") -> - | W38: 10 | X38: =IF(ISNUMBER(V38),V38+V38*W38/100,"-") -> - | Y38: =IF(ISNUMBER(X38), ROUND(X38,2), "-") -> -
G39: =F39/E39 -> #DIV/0! | N39: =IF((E39*H39)<>0, (E39*H39), "-") -> - | O39: =Y39 -> - | P39: =IF( AND(ISNUMBER(O39),ISNUMBER(N39)), (O39*N39), "-") -> - | U39: =IF((H39+I39+J39+K39+L39+M39)<>0, MIN(K15, (G39/(H39+I39+J39+K39+L39+M39))*K14/100 ), "-") -> - | V39: =IF(ISNUMBER(U39), ROUND(U39,2),"-") -> - | W39: 10 | X39: =IF(ISNUMBER(V39),V39+V39*W39/100,"-") -> - | Y39: =IF(ISNUMBER(X39), ROUND(X39,2), "-") -> -
G40: =F40/E40 -> #DIV/0! | N40: =IF((E40*H40)<>0, (E40*H40), "-") -> - | O40: =Y40 -> - | P40: =IF( AND(ISNUMBER(O40),ISNUMBER(N40)), (O40*N40), "-") -> - | U40: =IF((H40+I40+J40+K40+L40+M40)<>0, MIN(K15, (G40/(H40+I40+J40+K40+L40+M40))*K14/100 ), "-") -> - | V40: =IF(ISNUMBER(U40), ROUND(U40,2),"-") -> - | W40: 10 | X40: =IF(ISNUMBER(V40),V40+V40*W40/100,"-") -> - | Y40: =IF(ISNUMBER(X40), ROUND(X40,2), "-") -> -
G41: =F41/E41 -> #DIV/0! | N41: =IF((E41*H41)<>0, (E41*H41), "-") -> - | O41: =Y41 -> - | P41: =IF( AND(ISNUMBER(O41),ISNUMBER(N41)), (O41*N41), "-") -> - | U41: =IF((H41+I41+J41+K41+L41+M41)<>0, MIN(K15, (G41/(H41+I41+J41+K41+L41+M41))*K14/100 ), "-") -> - | V41: =IF(ISNUMBER(U41), ROUND(U41,2),"-") -> - | W41: 10 | X41: =IF(ISNUMBER(V41),V41+V41*W41/100,"-") -> - | Y41: =IF(ISNUMBER(X41), ROUND(X41,2), "-") -> -
G42: =F42/E42 -> #DIV/0! | N42: =IF((E42*H42)<>0, (E42*H42), "-") -> - | O42: =Y42 -> - | P42: =IF( AND(ISNUMBER(O42),ISNUMBER(N42)), (O42*N42), "-") -> - | U42: =IF((H42+I42+J42+K42+L42+M42)<>0, MIN(K15, (G42/(H42+I42+J42+K42+L42+M42))*K14/100 ), "-") -> - | V42: =IF(ISNUMBER(U42), ROUND(U42,2),"-") -> - | W42: 10 | X42: =IF(ISNUMBER(V42),V42+V42*W42/100,"-") -> - | Y42: =IF(ISNUMBER(X42), ROUND(X42,2), "-") -> -
G43: =F43/E43 -> #DIV/0! | N43: =IF((E43*H43)<>0, (E43*H43), "-") -> - | O43: =Y43 -> - | P43: =IF( AND(ISNUMBER(O43),ISNUMBER(N43)), (O43*N43), "-") -> - | U43: =IF((H43+I43+J43+K43+L43+M43)<>0, MIN(K15, (G43/(H43+I43+J43+K43+L43+M43))*K14/100 ), "-") -> - | V43: =IF(ISNUMBER(U43), ROUND(U43,2),"-") -> - | W43: 10 | X43: =IF(ISNUMBER(V43),V43+V43*W43/100,"-") -> - | Y43: =IF(ISNUMBER(X43), ROUND(X43,2), "-") -> -
G44: =F44/E44 -> #DIV/0! | N44: =IF((E44*H44)<>0, (E44*H44), "-") -> - | O44: =Y44 -> - | P44: =IF( AND(ISNUMBER(O44),ISNUMBER(N44)), (O44*N44), "-") -> - | U44: =IF((H44+I44+J44+K44+L44+M44)<>0, MIN(K15, (G44/(H44+I44+J44+K44+L44+M44))*K14/100 ), "-") -> - | V44: =IF(ISNUMBER(U44), ROUND(U44,2),"-") -> - | W44: 10 | X44: =IF(ISNUMBER(V44),V44+V44*W44/100,"-") -> - | Y44: =IF(ISNUMBER(X44), ROUND(X44,2), "-") -> -
...
