Workbook

Sheet informations-collectivite
A3: Informations à remplir par le service de la taxe de séjour | C3: Nom de la collectivité | E3: Communauté d'agglomération Gap Tallard Durance
C5: URL de la page d'accueil de la plateforme
C7: Adresse pied de page
C11: Pourcentage voté par la collectivité | E11: 5 | F11: %
A13: Année de collecte | C13: Tarif plafond hors taxe additionnelle | E13: 4.8 | F13: €
A15: 2026 | C15: Taxe additionnelle départementale 04 & 05 | E15: 10 | F15: %

Sheet Donnees
A37: Menu déroulant
A38: Janvier
A39: Février
A40: Mars
A41: Avril
A42: Mai
A43: Juin
A44: Juillet
A45: Août
A46: Septembre
A47: Octobre
A48: Novembre
A49: Décembre

Sheet registre du logeur
E1: REGISTRE DES SÉJOURS
E2: =CONCATENATE('informations-collectivite'!E3) -> Communauté d'agglomération Gap Tallard Durance
E3: DECLARATION MENSUELLE DE TAXE DE SEJOUR | M3: Pour les hébergements à | P3: TARIF DE LA TAXE PROPORTIONNEL
E4: Mois : | F4: Menu déroulant | J4: Année : | K4: ='informations-collectivite'!A15 -> 2026
E5: Ce registre concerne les hébergements sans classement ou en attente de classement (hôtels, meublés, résidences de tourisme, villages de vacances,) sauf hébergements de plein air et auberges collectives.
C8: Etablissement : | K8: Nom du propriétaire :
C9: Adresse de l'établissement :
C10: Adresse du propriétaire :
D11: Capacité totale d'accueil : | K11: Nb de chambres :
D12: Numéro d'enregistrement :
C14: Le tarif de la taxe de séjour des hébergements sans classement ou en attente de classement (hôtels, meublés, résidences de tourisme, villages de vacances) saufles chambres d’hôtes, les aires de camping-cars, les terrains de camping et de caravanage et les ports de plaisance est de : | K14: ='informations-collectivite'!E11 -> 5 | L14: % | N14: Taxe(s) additionnelle(s) | P14: ='informations-collectivite'!E15 -> 10 | Q14: %
C15: Le tarif plafond de la taxe de séjour hors taxe additionnelle est de : | K15: ='informations-collectivite'!E13 -> 4.8 | L15: €
H17: Occupants
H18: Assujettis non exonérés
I19: Exonérés
C20: Date d'arrivée | D20: date de départ | E20: Nombre de nuits du séjour | F20: Montant total de la durée du séjour (HT) | G20: Prix de la nuit | H20: Nombre de personnes ssujettis* non exonérés | I20: Nombre de personnes mineures | J20: Nombre de titulaires d’un contrat de travail saisonnier employés dans la commune | K20: Nombre de personnes bénéficiant d’un hébergement d’urgence | L20: Nombre de personnes occupant des locaux dont le loyer est inférieur à un tarif voté par la collectivité** | M20: Nombre de personnes non assujetties* | N20: Nombre de nuitées assujetties non éxonérées | O20: Tarif de la taxe par personne + taxe(s) aditionnelle(s) | P20: Montant de la taxe de séjour percçue | U20: calcul taxe | V20: calcul taxe arrondi | W20: Pourcentage | X20: Calcul taxe arrodi + taxe additionnelle | Y20: (Calcul taxe arrodi + taxe additionnelle) arrodi
G21: =F21/E21 -> #DIV/0! | N21: =IF((E21*H21)<>0, (E21*H21), "-") -> - | O21: =Y21 -> - | P21: =IF( AND(ISNUMBER(O21),ISNUMBER(N21)), (O21*N21), "-") -> - | U21: =IF((H21+I21+J21+K21+L21+M21)<>0, MIN(K15, (G21/(H21+I21+J21+K21+L21+M21))*K14/100 ), "-") -> - | V21: =IF(ISNUMBER(U21), ROUND(U21,2),"-") -> - | W21: =P14 -> 10 | X21: =IF(ISNUMBER(V21),V21+V21*W21/100,"-") -> - | Y21: =IF(ISNUMBER(X21), ROUND(X21,2), "-") -> -
G22: =F22/E22 -> #DIV/0! | N22: =IF((E22*H22)<>0, (E22*H22), "-") -> - | O22: =Y22 -> - | P22: =IF( AND(ISNUMBER(O22),ISNUMBER(N22)), (O22*N22), "-") -> - | U22: =IF((H22+I22+J22+K22+L22+M22)<>0, MIN(K15, (G22/(H22+I22+J22+K22+L22+M22))*K14/100 ), "-") -> - | V22: =IF(ISNUMBER(U22), ROUND(U22,2),"-") -> - | W22: =P14 -> 10 | X22: =IF(ISNUMBER(V22),V22+V22*W22/100,"-") -> - | Y22: =IF(ISNUMBER(X22), ROUND(X22,2), "-") -> -
G23: =F23/E23 -> #DIV/0! | N23: =IF((E23*H23)<>0, (E23*H23), "-") -> - | O23: =Y23 -> - | P23: =IF( AND(ISNUMBER(O23),ISNUMBER(N23)), (O23*N23), "-") -> - | U23: =IF((H23+I23+J23+K23+L23+M23)<>0, MIN(K15, (G23/(H23+I23+J23+K23+L23+M23))*K14/100 ), "-") -> - | V23: =IF(ISNUMBER(U23), ROUND(U23,2),"-") -> - | W23: =P14 -> 10 | X23: =IF(ISNUMBER(V23),V23+V23*W23/100,"-") -> - | Y23: =IF(ISNUMBER(X23), ROUND(X23,2), "-") -> -
G24: =F24/E24 -> #DIV/0! | N24: =IF((E24*H24)<>0, (E24*H24), "-") -> - | O24: =Y24 -> - | P24: =IF( AND(ISNUMBER(O24),ISNUMBER(N24)), (O24*N24), "-") -> - | U24: =IF((H24+I24+J24+K24+L24+M24)<>0, MIN(K15, (G24/(H24+I24+J24+K24+L24+M24))*K14/100 ), "-") -> - | V24: =IF(ISNUMBER(U24), ROUND(U24,2),"-") -> - | W24: =P14 -> 10 | X24: =IF(ISNUMBER(V24),V24+V24*W24/100,"-") -> - | Y24: =IF(ISNUMBER(X24), ROUND(X24,2), "-") -> -
G25: =F25/E25 -> #DIV/0! | N25: =IF((E25*H25)<>0, (E25*H25), "-") -> - | O25: =Y25 -> - | P25: =IF( AND(ISNUMBER(O25),ISNUMBER(N25)), (O25*N25), "-") -> - | U25: =IF((H25+I25+J25+K25+L25+M25)<>0, MIN(K15, (G25/(H25+I25+J25+K25+L25+M25))*K14/100 ), "-") -> - | V25: =IF(ISNUMBER(U25), ROUND(U25,2),"-") -> - | W25: =P14 -> 10 | X25: =IF(ISNUMBER(V25),V25+V25*W25/100,"-") -> - | Y25: =IF(ISNUMBER(X25), ROUND(X25,2), "-") -> -
G26: =F26/E26 -> #DIV/0! | N26: =IF((E26*H26)<>0, (E26*H26), "-") -> - | O26: =Y26 -> - | P26: =IF( AND(ISNUMBER(O26),ISNUMBER(N26)), (O26*N26), "-") -> - | U26: =IF((H26+I26+J26+K26+L26+M26)<>0, MIN(K15, (G26/(H26+I26+J26+K26+L26+M26))*K14/100 ), "-") -> - | V26: =IF(ISNUMBER(U26), ROUND(U26,2),"-") -> - | W26: =P14 -> 10 | X26: =IF(ISNUMBER(V26),V26+V26*W26/100,"-") -> - | Y26: =IF(ISNUMBER(X26), ROUND(X26,2), "-") -> -
G27: =F27/E27 -> #DIV/0! | N27: =IF((E27*H27)<>0, (E27*H27), "-") -> - | O27: =Y27 -> - | P27: =IF( AND(ISNUMBER(O27),ISNUMBER(N27)), (O27*N27), "-") -> - | U27: =IF((H27+I27+J27+K27+L27+M27)<>0, MIN(K15, (G27/(H27+I27+J27+K27+L27+M27))*K14/100 ), "-") -> - | V27: =IF(ISNUMBER(U27), ROUND(U27,2),"-") -> - | W27: =P14 -> 10 | X27: =IF(ISNUMBER(V27),V27+V27*W27/100,"-") -> - | Y27: =IF(ISNUMBER(X27), ROUND(X27,2), "-") -> -
G28: =F28/E28 -> #DIV/0! | N28: =IF((E28*H28)<>0, (E28*H28), "-") -> - | O28: =Y28 -> - | P28: =IF( AND(ISNUMBER(O28),ISNUMBER(N28)), (O28*N28), "-") -> - | U28: =IF((H28+I28+J28+K28+L28+M28)<>0, MIN(K15, (G28/(H28+I28+J28+K28+L28+M28))*K14/100 ), "-") -> - | V28: =IF(ISNUMBER(U28), ROUND(U28,2),"-") -> - | W28: =P14 -> 10 | X28: =IF(ISNUMBER(V28),V28+V28*W28/100,"-") -> - | Y28: =IF(ISNUMBER(X28), ROUND(X28,2), "-") -> -
G29: =F29/E29 -> #DIV/0! | N29: =IF((E29*H29)<>0, (E29*H29), "-") -> - | O29: =Y29 -> - | P29: =IF( AND(ISNUMBER(O29),ISNUMBER(N29)), (O29*N29), "-") -> - | U29: =IF((H29+I29+J29+K29+L29+M29)<>0, MIN(K15, (G29/(H29+I29+J29+K29+L29+M29))*K14/100 ), "-") -> - | V29: =IF(ISNUMBER(U29), ROUND(U29,2),"-") -> - | W29: =P14 -> 10 | X29: =IF(ISNUMBER(V29),V29+V29*W29/100,"-") -> - | Y29: =IF(ISNUMBER(X29), ROUND(X29,2), "-") -> -
G30: =F30/E30 -> #DIV/0! | N30: =IF((E30*H30)<>0, (E30*H30), "-") -> - | O30: =Y30 -> - | P30: =IF( AND(ISNUMBER(O30),ISNUMBER(N30)), (O30*N30), "-") -> - | U30: =IF((H30+I30+J30+K30+L30+M30)<>0, MIN(K15, (G30/(H30+I30+J30+K30+L30+M30))*K14/100 ), "-") -> - | V30: =IF(ISNUMBER(U30), ROUND(U30,2),"-") -> - | W30: =P14 -> 10 | X30: =IF(ISNUMBER(V30),V30+V30*W30/100,"-") -> - | Y30: =IF(ISNUMBER(X30), ROUND(X30,2), "-") -> -
G31: =F31/E31 -> #DIV/0! | N31: =IF((E31*H31)<>0, (E31*H31), "-") -> - | O31: =Y31 -> - | P31: =IF( AND(ISNUMBER(O31),ISNUMBER(N31)), (O31*N31), "-") -> - | U31: =IF((H31+I31+J31+K31+L31+M31)<>0, MIN(K15, (G31/(H31+I31+J31+K31+L31+M31))*K14/100 ), "-") -> - | V31: =IF(ISNUMBER(U31), ROUND(U31,2),"-") -> - | W31: =P14 -> 10 | X31: =IF(ISNUMBER(V31),V31+V31*W31/100,"-") -> - | Y31: =IF(ISNUMBER(X31), ROUND(X31,2), "-") -> -
G32: =F32/E32 -> #DIV/0! | N32: =IF((E32*H32)<>0, (E32*H32), "-") -> - | O32: =Y32 -> - | P32: =IF( AND(ISNUMBER(O32),ISNUMBER(N32)), (O32*N32), "-") -> - | U32: =IF((H32+I32+J32+K32+L32+M32)<>0, MIN(K15, (G32/(H32+I32+J32+K32+L32+M32))*K14/100 ), "-") -> - | V32: =IF(ISNUMBER(U32), ROUND(U32,2),"-") -> - | W32: =P14 -> 10 | X32: =IF(ISNUMBER(V32),V32+V32*W32/100,"-") -> - | Y32: =IF(ISNUMBER(X32), ROUND(X32,2), "-") -> -
G33: =F33/E33 -> #DIV/0! | N33: =IF((E33*H33)<>0, (E33*H33), "-") -> - | O33: =Y33 -> - | P33: =IF( AND(ISNUMBER(O33),ISNUMBER(N33)), (O33*N33), "-") -> - | U33: =IF((H33+I33+J33+K33+L33+M33)<>0, MIN(K15, (G33/(H33+I33+J33+K33+L33+M33))*K14/100 ), "-") -> - | V33: =IF(ISNUMBER(U33), ROUND(U33,2),"-") -> - | W33: =P14 -> 10 | X33: =IF(ISNUMBER(V33),V33+V33*W33/100,"-") -> - | Y33: =IF(ISNUMBER(X33), ROUND(X33,2), "-") -> -
G34: =F34/E34 -> #DIV/0! | N34: =IF((E34*H34)<>0, (E34*H34), "-") -> - | O34: =Y34 -> - | P34: =IF( AND(ISNUMBER(O34),ISNUMBER(N34)), (O34*N34), "-") -> - | U34: =IF((H34+I34+J34+K34+L34+M34)<>0, MIN(K15, (G34/(H34+I34+J34+K34+L34+M34))*K14/100 ), "-") -> - | V34: =IF(ISNUMBER(U34), ROUND(U34,2),"-") -> - | W34: =P14 -> 10 | X34: =IF(ISNUMBER(V34),V34+V34*W34/100,"-") -> - | Y34: =IF(ISNUMBER(X34), ROUND(X34,2), "-") -> -
G35: =F35/E35 -> #DIV/0! | N35: =IF((E35*H35)<>0, (E35*H35), "-") -> - | O35: =Y35 -> - | P35: =IF( AND(ISNUMBER(O35),ISNUMBER(N35)), (O35*N35), "-") -> - | U35: =IF((H35+I35+J35+K35+L35+M35)<>0, MIN(K15, (G35/(H35+I35+J35+K35+L35+M35))*K14/100 ), "-") -> - | V35: =IF(ISNUMBER(U35), ROUND(U35,2),"-") -> - | W35: =P14 -> 10 | X35: =IF(ISNUMBER(V35),V35+V35*W35/100,"-") -> - | Y35: =IF(ISNUMBER(X35), ROUND(X35,2), "-") -> -
G36: =F36/E36 -> #DIV/0! | N36: =IF((E36*H36)<>0, (E36*H36), "-") -> - | O36: =Y36 -> - | P36: =IF( AND(ISNUMBER(O36),ISNUMBER(N36)), (O36*N36), "-") -> - | U36: =IF((H36+I36+J36+K36+L36+M36)<>0, MIN(K15, (G36/(H36+I36+J36+K36+L36+M36))*K14/100 ), "-") -> - | V36: =IF(ISNUMBER(U36), ROUND(U36,2),"-") -> - | W36: =P14 -> 10 | X36: =IF(ISNUMBER(V36),V36+V36*W36/100,"-") -> - | Y36: =IF(ISNUMBER(X36), ROUND(X36,2), "-") -> -
G37: =F37/E37 -> #DIV/0! | N37: =IF((E37*H37)<>0, (E37*H37), "-") -> - | O37: =Y37 -> - | P37: =IF( AND(ISNUMBER(O37),ISNUMBER(N37)), (O37*N37), "-") -> - | U37: =IF((H37+I37+J37+K37+L37+M37)<>0, MIN(K15, (G37/(H37+I37+J37+K37+L37+M37))*K14/100 ), "-") -> - | V37: =IF(ISNUMBER(U37), ROUND(U37,2),"-") -> - | W37: 10 | X37: =IF(ISNUMBER(V37),V37+V37*W37/100,"-") -> - | Y37: =IF(ISNUMBER(X37), ROUND(X37,2), "-") -> -
G38: =F38/E38 -> #DIV/0! | N38: =IF((E38*H38)<>0, (E38*H38), "-") -> - | O38: =Y38 -> - | P38: =IF( AND(ISNUMBER(O38),ISNUMBER(N38)), (O38*N38), "-") -> - | U38: =IF((H38+I38+J38+K38+L38+M38)<>0, MIN(K15, (G38/(H38+I38+J38+K38+L38+M38))*K14/100 ), "-") -> - | V38: =IF(ISNUMBER(U38), ROUND(U38,2),"-") -> - | W38: 10 | X38: =IF(ISNUMBER(V38),V38+V38*W38/100,"-") -> - | Y38: =IF(ISNUMBER(X38), ROUND(X38,2), "-") -> -
G39: =F39/E39 -> #DIV/0! | N39: =IF((E39*H39)<>0, (E39*H39), "-") -> - | O39: =Y39 -> - | P39: =IF( AND(ISNUMBER(O39),ISNUMBER(N39)), (O39*N39), "-") -> - | U39: =IF((H39+I39+J39+K39+L39+M39)<>0, MIN(K15, (G39/(H39+I39+J39+K39+L39+M39))*K14/100 ), "-") -> - | V39: =IF(ISNUMBER(U39), ROUND(U39,2),"-") -> - | W39: 10 | X39: =IF(ISNUMBER(V39),V39+V39*W39/100,"-") -> - | Y39: =IF(ISNUMBER(X39), ROUND(X39,2), "-") -> -
G40: =F40/E40 -> #DIV/0! | N40: =IF((E40*H40)<>0, (E40*H40), "-") -> - | O40: =Y40 -> - | P40: =IF( AND(ISNUMBER(O40),ISNUMBER(N40)), (O40*N40), "-") -> - | U40: =IF((H40+I40+J40+K40+L40+M40)<>0, MIN(K15, (G40/(H40+I40+J40+K40+L40+M40))*K14/100 ), "-") -> - | V40: =IF(ISNUMBER(U40), ROUND(U40,2),"-") -> - | W40: 10 | X40: =IF(ISNUMBER(V40),V40+V40*W40/100,"-") -> - | Y40: =IF(ISNUMBER(X40), ROUND(X40,2), "-") -> -
G41: =F41/E41 -> #DIV/0! | N41: =IF((E41*H41)<>0, (E41*H41), "-") -> - | O41: =Y41 -> - | P41: =IF( AND(ISNUMBER(O41),ISNUMBER(N41)), (O41*N41), "-") -> - | U41: =IF((H41+I41+J41+K41+L41+M41)<>0, MIN(K15, (G41/(H41+I41+J41+K41+L41+M41))*K14/100 ), "-") -> - | V41: =IF(ISNUMBER(U41), ROUND(U41,2),"-") -> - | W41: 10 | X41: =IF(ISNUMBER(V41),V41+V41*W41/100,"-") -> - | Y41: =IF(ISNUMBER(X41), ROUND(X41,2), "-") -> -
G42: =F42/E42 -> #DIV/0! | N42: =IF((E42*H42)<>0, (E42*H42), "-") -> - | O42: =Y42 -> - | P42: =IF( AND(ISNUMBER(O42),ISNUMBER(N42)), (O42*N42), "-") -> - | U42: =IF((H42+I42+J42+K42+L42+M42)<>0, MIN(K15, (G42/(H42+I42+J42+K42+L42+M42))*K14/100 ), "-") -> - | V42: =IF(ISNUMBER(U42), ROUND(U42,2),"-") -> - | W42: 10 | X42: =IF(ISNUMBER(V42),V42+V42*W42/100,"-") -> - | Y42: =IF(ISNUMBER(X42), ROUND(X42,2), "-") -> -
G43: =F43/E43 -> #DIV/0! | N43: =IF((E43*H43)<>0, (E43*H43), "-") -> - | O43: =Y43 -> - | P43: =IF( AND(ISNUMBER(O43),ISNUMBER(N43)), (O43*N43), "-") -> - | U43: =IF((H43+I43+J43+K43+L43+M43)<>0, MIN(K15, (G43/(H43+I43+J43+K43+L43+M43))*K14/100 ), "-") -> - | V43: =IF(ISNUMBER(U43), ROUND(U43,2),"-") -> - | W43: 10 | X43: =IF(ISNUMBER(V43),V43+V43*W43/100,"-") -> - | Y43: =IF(ISNUMBER(X43), ROUND(X43,2), "-") -> -
G44: =F44/E44 -> #DIV/0! | N44: =IF((E44*H44)<>0, (E44*H44), "-") -> - | O44: =Y44 -> - | P44: =IF( AND(ISNUMBER(O44),ISNUMBER(N44)), (O44*N44), "-") -> - | U44: =IF((H44+I44+J44+K44+L44+M44)<>0, MIN(K15, (G44/(H44+I44+J44+K44+L44+M44))*K14/100 ), "-") -> - | V44: =IF(ISNUMBER(U44), ROUND(U44,2),"-") -> - | W44: 10 | X44: =IF(ISNUMBER(V44),V44+V44*W44/100,"-") -> - | Y44: =IF(ISNUMBER(X44), ROUND(X44,2), "-") -> -
G45: =F45/E45 -> #DIV/0! | N45: =IF((E45*H45)<>0, (E45*H45), "-") -> - | O45: =Y45 -> - | P45: =IF( AND(ISNUMBER(O45),ISNUMBER(N45)), (O45*N45), "-") -> - | U45: =IF((H45+I45+J45+K45+L45+M45)<>0, MIN(K15, (G45/(H45+I45+J45+K45+L45+M45))*K14/100 ), "-") -> - | V45: =IF(ISNUMBER(U45), ROUND(U45,2),"-") -> - | W45: 10 | X45: =IF(ISNUMBER(V45),V45+V45*W45/100,"-") -> - | Y45: =IF(ISNUMBER(X45), ROUND(X45,2), "-") -> -
G46: =F46/E46 -> #DIV/0! | N46: =IF((E46*H46)<>0, (E46*H46), "-") -> - | O46: =Y46 -> - | P46: =IF( AND(ISNUMBER(O46),ISNUMBER(N46)), (O46*N46), "-") -> - | U46: =IF((H46+I46+J46+K46+L46+M46)<>0, MIN(K15, (G46/(H46+I46+J46+K46+L46+M46))*K14/100 ), "-") -> - | V46: =IF(ISNUMBER(U46), ROUND(U46,2),"-") -> - | W46: 10 | X46: =IF(ISNUMBER(V46),V46+V46*W46/100,"-") -> - | Y46: =IF(ISNUMBER(X46), ROUND(X46,2), "-") -> -
G47: =F47/E47 -> #DIV/0! | N47: =IF((E47*H47)<>0, (E47*H47), "-") -> - | O47: =Y47 -> - | P47: =IF( AND(ISNUMBER(O47),ISNUMBER(N47)), (O47*N47), "-") -> - | U47: =IF((H47+I47+J47+K47+L47+M47)<>0, MIN(K15, (G47/(H47+I47+J47+K47+L47+M47))*K14/100 ), "-") -> - | V47: =IF(ISNUMBER(U47), ROUND(U47,2),"-") -> - | W47: 10 | X47: =IF(ISNUMBER(V47),V47+V47*W47/100,"-") -> - | Y47: =IF(ISNUMBER(X47), ROUND(X47,2), "-") -> -
G48: =F48/E48 -> #DIV/0! | N48: =IF((E48*H48)<>0, (E48*H48), "-") -> - | O48: =Y48 -> - | P48: =IF( AND(ISNUMBER(O48),ISNUMBER(N48)), (O48*N48), "-") -> - | U48: =IF((H48+I48+J48+K48+L48+M48)<>0, MIN(K15, (G48/(H48+I48+J48+K48+L48+M48))*K14/100 ), "-") -> - | V48: =IF(ISNUMBER(U48), ROUND(U48,2),"-") -> - | W48: 10 | X48: =IF(ISNUMBER(V48),V48+V48*W48/100,"-") -> - | Y48: =IF(ISNUMBER(X48), ROUND(X48,2), "-") -> -
G49: =F49/E49 -> #DIV/0! | N49: =IF((E49*H49)<>0, (E49*H49), "-") -> - | O49: =Y49 -> - | P49: =IF( AND(ISNUMBER(O49),ISNUMBER(N49)), (O49*N49), "-") -> - | U49: =IF((H49+I49+J49+K49+L49+M49)<>0, MIN(K15, (G49/(H49+I49+J49+K49+L49+M49))*K14/100 ), "-") -> - | V49: =IF(ISNUMBER(U49), ROUND(U49,2),"-") -> - | W49: 10 | X49: =IF(ISNUMBER(V49),V49+V49*W49/100,"-") -> - | Y49: =IF(ISNUMBER(X49), ROUND(X49,2), "-") -> -
G50: =F50/E50 -> #DIV/0! | N50: =IF((E50*H50)<>0, (E50*H50), "-") -> - | O50: =Y50 -> - | P50: =IF( AND(ISNUMBER(O50),ISNUMBER(N50)), (O50*N50), "-") -> - | U50: =IF((H50+I50+J50+K50+L50+M50)<>0, MIN(K15, (G50/(H50+I50+J50+K50+L50+M50))*K14/100 ), "-") -> - | V50: =IF(ISNUMBER(U50), ROUND(U50,2),"-") -> - | W50: 10 | X50: =IF(ISNUMBER(V50),V50+V50*W50/100,"-") -> - | Y50: =IF(ISNUMBER(X50), ROUND(X50,2), "-") -> -
G51: =F51/E51 -> #DIV/0! | N51: =IF((E51*H51)<>0, (E51*H51), "-") -> - | O51: =Y51 -> - | P51: =IF( AND(ISNUMBER(O51),ISNUMBER(N51)), (O51*N51), "-") -> - | U51: =IF((H51+I51+J51+K51+L51+M51)<>0, MIN(K15, (G51/(H51+I51+J51+K51+L51+M51))*K14/100 ), "-") -> - | V51: =IF(ISNUMBER(U51), ROUND(U51,2),"-") -> - | W51: 10 | X51: =IF(ISNUMBER(V51),V51+V51*W51/100,"-") -> - | Y51: =IF(ISNUMBER(X51), ROUND(X51,2), "-") -> -
G52: =F52/E52 -> #DIV/0! | N52: =IF((E52*H52)<>0, (E52*H52), "-") -> - | O52: =Y52 -> - | P52: =IF( AND(ISNUMBER(O52),ISNUMBER(N52)), (O52*N52), "-") -> - | U52: =IF((H52+I52+J52+K52+L52+M52)<>0, MIN(K15, (G52/(H52+I52+J52+K52+L52+M52))*K14/100 ), "-") -> - | V52: =IF(ISNUMBER(U52), ROUND(U52,2),"-") -> - | W52: 10 | X52: =IF(ISNUMBER(V52),V52+V52*W52/100,"-") -> - | Y52: =IF(ISNUMBER(X52), ROUND(X52,2), "-") -> -
G53: =F53/E53 -> #DIV/0! | N53: =IF((E53*H53)<>0, (E53*H53), "-") -> - | O53: =Y53 -> - | P53: =IF( AND(ISNUMBER(O53),ISNUMBER(N53)), (O53*N53), "-") -> - | U53: =IF((H53+I53+J53+K53+L53+M53)<>0, MIN(K15, (G53/(H53+I53+J53+K53+L53+M53))*K14/100 ), "-") -> - | V53: =IF(ISNUMBER(U53), ROUND(U53,2),"-") -> - | W53: 10 | X53: =IF(ISNUMBER(V53),V53+V53*W53/100,"-") -> - | Y53: =IF(ISNUMBER(X53), ROUND(X53,2), "-") -> -
G54: =F54/E54 -> #DIV/0! | N54: =IF((E54*H54)<>0, (E54*H54), "-") -> - | O54: =Y54 -> - | P54: =IF( AND(ISNUMBER(O54),ISNUMBER(N54)), (O54*N54), "-") -> - | U54: =IF((H54+I54+J54+K54+L54+M54)<>0, MIN(K15, (G54/(H54+I54+J54+K54+L54+M54))*K14/100 ), "-") -> - | V54: =IF(ISNUMBER(U54), ROUND(U54,2),"-") -> - | W54: 10 | X54: =IF(ISNUMBER(V54),V54+V54*W54/100,"-") -> - | Y54: =IF(ISNUMBER(X54), ROUND(X54,2), "-") -> -
G55: =F55/E55 -> #DIV/0! | N55: =IF((E55*H55)<>0, (E55*H55), "-") -> - | O55: =Y55 -> - | P55: =IF( AND(ISNUMBER(O55),ISNUMBER(N55)), (O55*N55), "-") -> - | U55: =IF((H55+I55+J55+K55+L55+M55)<>0, MIN(K15, (G55/(H55+I55+J55+K55+L55+M55))*K14/100 ), "-") -> - | V55: =IF(ISNUMBER(U55), ROUND(U55,2),"-") -> - | W55: 10 | X55: =IF(ISNUMBER(V55),V55+V55*W55/100,"-") -> - | Y55: =IF(ISNUMBER(X55), ROUND(X55,2), "-") -> -
G56: =F56/E56 -> #DIV/0! | N56: =IF((E56*H56)<>0, (E56*H56), "-") -> - | O56: =Y56 -> - | P56: =IF( AND(ISNUMBER(O56),ISNUMBER(N56)), (O56*N56), "-") -> - | U56: =IF((H56+I56+J56+K56+L56+M56)<>0, MIN(K15, (G56/(H56+I56+J56+K56+L56+M56))*K14/100 ), "-") -> - | V56: =IF(ISNUMBER(U56), ROUND(U56,2),"-") -> - | W56: 10 | X56: =IF(ISNUMBER(V56),V56+V56*W56/100,"-") -> - | Y56: =IF(ISNUMBER(X56), ROUND(X56,2), "-") -> -
G57: =F57/E57 -> #DIV/0! | N57: =IF((E57*H57)<>0, (E57*H57), "-") -> - | O57: =Y57 -> - | P57: =IF( AND(ISNUMBER(O57),ISNUMBER(N57)), (O57*N57), "-") -> - | U57: =IF((H57+I57+J57+K57+L57+M57)<>0, MIN(K15, (G57/(H57+I57+J57+K57+L57+M57))*K14/100 ), "-") -> - | V57: =IF(ISNUMBER(U57), ROUND(U57,2),"-") -> - | W57: 10 | X57: =IF(ISNUMBER(V57),V57+V57*W57/100,"-") -> - | Y57: =IF(ISNUMBER(X57), ROUND(X57,2), "-") -> -
G58: =F58/E58 -> #DIV/0! | N58: =IF((E58*H58)<>0, (E58*H58), "-") -> - | O58: =Y58 -> - | P58: =IF( AND(ISNUMBER(O58),ISNUMBER(N58)), (O58*N58), "-") -> - | U58: =IF((H58+I58+J58+K58+L58+M58)<>0, MIN(K15, (G58/(H58+I58+J58+K58+L58+M58))*K14/100 ), "-") -> - | V58: =IF(ISNUMBER(U58), ROUND(U58,2),"-") -> - | W58: 10 | X58: =IF(ISNUMBER(V58),V58+V58*W58/100,"-") -> - | Y58: =IF(ISNUMBER(X58), ROUND(X58,2), "-") -> -
G59: =F59/E59 -> #DIV/0! | N59: =IF((E59*H59)<>0, (E59*H59), "-") -> - | O59: =Y59 -> - | P59: =IF( AND(ISNUMBER(O59),ISNUMBER(N59)), (O59*N59), "-") -> - | U59: =IF((H59+I59+J59+K59+L59+M59)<>0, MIN(K15, (G59/(H59+I59+J59+K59+L59+M59))*K14/100 ), "-") -> - | V59: =IF(ISNUMBER(U59), ROUND(U59,2),"-") -> - | W59: 10 | X59: =IF(ISNUMBER(V59),V59+V59*W59/100,"-") -> - | Y59: =IF(ISNUMBER(X59), ROUND(X59,2), "-") -> -
G60: =F60/E60 -> #DIV/0! | N60: =IF((E60*H60)<>0, (E60*H60), "-") -> - | O60: =Y60 -> - | P60: =IF( AND(ISNUMBER(O60),ISNUMBER(N60)), (O60*N60), "-") -> - | U60: =IF((H60+I60+J60+K60+L60+M60)<>0, MIN(K15, (G60/(H60+I60+J60+K60+L60+M60))*K14/100 ), "-") -> - | V60: =IF(ISNUMBER(U60), ROUND(U60,2),"-") -> - | W60: 10 | X60: =IF(ISNUMBER(V60),V60+V60*W60/100,"-") -> - | Y60: =IF(ISNUMBER(X60), ROUND(X60,2), "-") -> -
G61: =F61/E61 -> #DIV/0! | N61: =IF((E61*H61)<>0, (E61*H61), "-") -> - | O61: =Y61 -> - | P61: =IF( AND(ISNUMBER(O61),ISNUMBER(N61)), (O61*N61), "-") -> - | U61: =IF((H61+I61+J61+K61+L61+M61)<>0, MIN(K15, (G61/(H61+I61+J61+K61+L61+M61))*K14/100 ), "-") -> - | V61: =IF(ISNUMBER(U61), ROUND(U61,2),"-") -> - | W61: 10 | X61: =IF(ISNUMBER(V61),V61+V61*W61/100,"-") -> - | Y61: =IF(ISNUMBER(X61), ROUND(X61,2), "-") -> -
G62: =F62/E62 -> #DIV/0! | N62: =IF((E62*H62)<>0, (E62*H62), "-") -> - | O62: =Y62 -> - | P62: =IF( AND(ISNUMBER(O62),ISNUMBER(N62)), (O62*N62), "-") -> - | U62: =IF((H62+I62+J62+K62+L62+M62)<>0, MIN(K15, (G62/(H62+I62+J62+K62+L62+M62))*K14/100 ), "-") -> - | V62: =IF(ISNUMBER(U62), ROUND(U62,2),"-") -> - | W62: 10 | X62: =IF(ISNUMBER(V62),V62+V62*W62/100,"-") -> - | Y62: =IF(ISNUMBER(X62), ROUND(X62,2), "-") -> -
G63: =F63/E63 -> #DIV/0! | N63: =IF((E63*H63)<>0, (E63*H63), "-") -> - | O63: =Y63 -> - | P63: =IF( AND(ISNUMBER(O63),ISNUMBER(N63)), (O63*N63), "-") -> - | U63: =IF((H63+I63+J63+K63+L63+M63)<>0, MIN(K15, (G63/(H63+I63+J63+K63+L63+M63))*K14/100 ), "-") -> - | V63: =IF(ISNUMBER(U63), ROUND(U63,2),"-") -> - | W63: 10 | X63: =IF(ISNUMBER(V63),V63+V63*W63/100,"-") -> - | Y63: =IF(ISNUMBER(X63), ROUND(X63,2), "-") -> -
G64: =F64/E64 -> #DIV/0! | N64: =IF((E64*H64)<>0, (E64*H64), "-") -> - | O64: =Y64 -> - | P64: =IF( AND(ISNUMBER(O64),ISNUMBER(N64)), (O64*N64), "-") -> - | U64: =IF((H64+I64+J64+K64+L64+M64)<>0, MIN(K15, (G64/(H64+I64+J64+K64+L64+M64))*K14/100 ), "-") -> - | V64: =IF(ISNUMBER(U64), ROUND(U64,2),"-") -> - | W64: 10 | X64: =IF(ISNUMBER(V64),V64+V64*W64/100,"-") -> - | Y64: =IF(ISNUMBER(X64), ROUND(X64,2), "-") -> -
G65: =F65/E65 -> #DIV/0! | N65: =IF((E65*H65)<>0, (E65*H65), "-") -> - | O65: =Y65 -> - | P65: =IF( AND(ISNUMBER(O65),ISNUMBER(N65)), (O65*N65), "-") -> - | U65: =IF((H65+I65+J65+K65+L65+M65)<>0, MIN(K15, (G65/(H65+I65+J65+K65+L65+M65))*K14/100 ), "-") -> - | V65: =IF(ISNUMBER(U65), ROUND(U65,2),"-") -> - | W65: 10 | X65: =IF(ISNUMBER(V65),V65+V65*W65/100,"-") -> - | Y65: =IF(ISNUMBER(X65), ROUND(X65,2), "-") -> -
G66: =F66/E66 -> #DIV/0! | N66: =IF((E66*H66)<>0, (E66*H66), "-") -> - | O66: =Y66 -> - | P66: =IF( AND(ISNUMBER(O66),ISNUMBER(N66)), (O66*N66), "-") -> - | U66: =IF((H66+I66+J66+K66+L66+M66)<>0, MIN(K15, (G66/(H66+I66+J66+K66+L66+M66))*K14/100 ), "-") -> - | V66: =IF(ISNUMBER(U66), ROUND(U66,2),"-") -> - | W66: 10 | X66: =IF(ISNUMBER(V66),V66+V66*W66/100,"-") -> - | Y66: =IF(ISNUMBER(X66), ROUND(X66,2), "-") -> -
G67: =F67/E67 -> #DIV/0! | N67: =IF((E67*H67)<>0, (E67*H67), "-") -> - | O67: =Y67 -> - | P67: =IF( AND(ISNUMBER(O67),ISNUMBER(N67)), (O67*N67), "-") -> - | U67: =IF((H67+I67+J67+K67+L67+M67)<>0, MIN(K15, (G67/(H67+I67+J67+K67+L67+M67))*K14/100 ), "-") -> - | V67: =IF(ISNUMBER(U67), ROUND(U67,2),"-") -> - | W67: 10 | X67: =IF(ISNUMBER(V67),V67+V67*W67/100,"-") -> - | Y67: =IF(ISNUMBER(X67), ROUND(X67,2), "-") -> -
G68: =F68/E68 -> #DIV/0! | N68: =IF((E68*H68)<>0, (E68*H68), "-") -> - | O68: =Y68 -> - | P68: =IF( AND(ISNUMBER(O68),ISNUMBER(N68)), (O68*N68), "-") -> - | U68: =IF((H68+I68+J68+K68+L68+M68)<>0, MIN(K15, (G68/(H68+I68+J68+K68+L68+M68))*K14/100 ), "-") -> - | V68: =IF(ISNUMBER(U68), ROUND(U68,2),"-") -> - | W68: 10 | X68: =IF(ISNUMBER(V68),V68+V68*W68/100,"-") -> - | Y68: =IF(ISNUMBER(X68), ROUND(X68,2), "-") -> -
G69: =F69/E69 -> #DIV/0! | N69: =IF((E69*H69)<>0, (E69*H69), "-") -> - | O69: =Y69 -> - | P69: =IF( AND(ISNUMBER(O69),ISNUMBER(N69)), (O69*N69), "-") -> - | U69: =IF((H69+I69+J69+K69+L69+M69)<>0, MIN(K15, (G69/(H69+I69+J69+K69+L69+M69))*K14/100 ), "-") -> - | V69: =IF(ISNUMBER(U69), ROUND(U69,2),"-") -> - | W69: 10 | X69: =IF(ISNUMBER(V69),V69+V69*W69/100,"-") -> - | Y69: =IF(ISNUMBER(X69), ROUND(X69,2), "-") -> -
G70: =F70/E70 -> #DIV/0! | N70: =IF((E70*H70)<>0, (E70*H70), "-") -> - | O70: =Y70 -> - | P70: =IF( AND(ISNUMBER(O70),ISNUMBER(N70)), (O70*N70), "-") -> - | U70: =IF((H70+I70+J70+K70+L70+M70)<>0, MIN(K15, (G70/(H70+I70+J70+K70+L70+M70))*K14/100 ), "-") -> - | V70: =IF(ISNUMBER(U70), ROUND(U70,2),"-") -> - | W70: 10 | X70: =IF(ISNUMBER(V70),V70+V70*W70/100,"-") -> - | Y70: =IF(ISNUMBER(X70), ROUND(X70,2), "-") -> -
G71: =F71/E71 -> #DIV/0! | N71: =IF((E71*H71)<>0, (E71*H71), "-") -> - | O71: =Y71 -> - | P71: =IF( AND(ISNUMBER(O71),ISNUMBER(N71)), (O71*N71), "-") -> - | U71: =IF((H71+I71+J71+K71+L71+M71)<>0, MIN(K15, (G71/(H71+I71+J71+K71+L71+M71))*K14/100 ), "-") -> - | V71: =IF(ISNUMBER(U71), ROUND(U71,2),"-") -> - | W71: =P14 -> 10 | X71: =IF(ISNUMBER(V71),V71+V71*W71/100,"-") -> - | Y71: =IF(ISNUMBER(X71), ROUND(X71,2), "-") -> -
C72: *Conformément à l'article L2333-29 du CGCT, « la taxe de séjour est établie sur les personnes assujetties qui ne sont pas domiciliées dans la commune et qui n'y possèdent pas de résidence à raison de laquelle elles sont redevables de la taxe d'hab1tat1on ». ** personnes occupant des locaux dont le loyer est inférieur à un montant déterminé par le conseil délibérant de la collectivité (exonération qui n'existe pas sur tous les territoires) | L72: TOTAL NUITÉES ASSUJETTIES NON ÉXONÉRÉES | N72: =SUM(N21:N71) -> 0 | O72: TOTAL € | P72: =SUM(P21:P71) -> 0
L73: Vous ne pouvez rien inscrire dans les colonnes grises; les formules de calcul étant déjà intégrées.
C75: Eléments à reporter dans votre déclaration mensuelle
D77: Déclaration de taxe de Séjour | H77: =F4 -> Menu déroulant | J77: =K4 -> 2026
D78: Nombre total de nuitées | N78: =N79+N80+N81+N82+N83+N84 -> 0
D79: Assujettis non exonérés | N79: =SUMPRODUCT(E21:E71,H21:H71) -> 0
D80: Nombre total d'exonération | E80: Mineures | N80: =SUMPRODUCT(E21:E71,I21:I71) -> 0
E81: Saisonniers | N81: =SUMPRODUCT(E21:E71,J21:J71) -> 0
E82: Hébergement d’urgence | N82: =SUMPRODUCT(E21:E71,K21:K71) -> 0
E83: Social | N83: =SUMPRODUCT(E21:E71,L21:L71) -> 0
D84: Non assujetties | N84: =SUMPRODUCT(E21:E71,M21:M71) -> 0
D85: Montant total collecté | N85: =P72 -> 0
L90: =CONCATENATE('informations-collectivite'!E5)
